Workbook

Sheet START-NVL-ATL
A1: Datum
A3: Naam
A4: Leeftijd
A5: Man/Vrouw
A6: Medicijnen
A7: Hoofdklacht
A9: Hieronder vindt u een aantal klachten, die mogelijk op u van toepassing zijn in de afgelopen weken.
A10: Wilt u telkens het cijfer '1' plaatsen in het door u gekozen vakje
C11: nooit | D11: zelden | E11: soms | F11: vaak | G11: zeer vaak
A12: Pijnlijke steken in de borst | H12: 1 | K12: NVL
A13: Gespannenheid | H13: 2
A14: Een waas voor de ogen | H14: 3
A15: Duizeligheid | H15: 4
A16: In de war zijn, of een gevoel hebben het normale contact met de omgeving te verliezen | H16: 5
A17: Een snellere of diepere ademhaling | H17: 6
A18: Ademnood | H18: 7
A19: Benauwd gevoel in en rond de borst | H19: 8
A20: Opgeblazen gevoel in de buik | H20: 9
A21: Tintelingen in vingers | H21: 10
A22: Niet voldoende diep kunnen doorademen | H22: 11
A23: Stijfheid van vingers of arme | H23: 12
A24: Stijfheid rond de mond | H24: 13
... A27: Angstig gevoel | H27: 16
A28: Vermoeid gevoel | H28: 1 | K28: ATL
A29: Moe wakker worden | H29: 2
A30: Onrustig slapen | H30: 3
A31: Geen zin om iets te ondernemen | H31: 4
A32: Veel tijd nodig om bij te komen na lichaamsbeweging | H32: 5
A33: Een inspanning te kort kunnen volhouden | H33: 6
A34: De aandacht slecht bij een ding houden | H34: 7
A35: Gauw afgeleid zijn | H35: 8
A36: Drukte in het hoofd | H36: 9
A37: Onnodige fouten maken | H37: 10
A38: Tekort aan rust | H38: 11
A39: Moeite met ontspannen | H39: 12
A40: Geen energie om iets te ondernemen | H40: 13
... A43: Stijfheid van het lichaam | H43: 16

Sheet EIND-NVL-ATL-VTO
A1: Hieronder vindt u een aantal klachten, die mogelijk op u van toepassing zijn in de afgelopen week.
A2: Wilt u telkens het cijfer '1' plaatsen in het door u gekozen vakje
C3: nooit | D3: zelden | E3: soms | F3: vaak | G3: zeer vaak
A4: Pijnlijke steken in de borst | H4: 1 | K4: NVL
A5: Gespannenheid | H5: 2
A6: Een waas voor de ogen | H6: 3
A7: Duizeligheid | H7: 4
A8: In de war zijn, of een gevoel hebben het normale contact met de omgeving te verliezen | H8: 5
A9: Een snellere of diepere ademhaling | H9: 6
A10: Ademnood | H10: 7
A11: Benauwd gevoel in en rond de borst | H11: 8
A12: Opgeblazen gevoel in de buik | H12: 9
A13: Tintelingen in vingers | H13: 10
A14: Niet voldoende diep kunnen doorademen | H14: 11
A15: Stijfheid van vingers of arme | H15: 12
A16: Stijfheid rond de mond | H16: 13
... A19: Angstig gevoel | H19: 16
A20: Vermoeid gevoel | H20: 1 | K20: ATL
A21: Moe wakker worden | H21: 2
A22: Onrustig slapen | H22: 3
A23: Geen zin om iets te ondernemen | H23: 4
A24: Veel tijd nodig om bij te komen na lichaamsbeweging | H24: 5
A25: Een inspanning te kort kunnen volhouden | H25: 6
A26: De aandacht slecht bij een ding houden | H26: 7
A27: Gauw afgeleid zijn | H27: 8
A28: Drukte in het hoofd | H28: 9
A29: Onnodige fouten maken | H29: 10
A30: Tekort aan rust | H30: 11
A31: Moeite met ontspannen | H31: 12
A32: Geen energie om iets te ondernemen | H32: 13
... A35: Stijfheid van het lichaam | H35: 16
A38: Deze vragen hoeft u alleen in te vullen als u al thuis geoefend heeft met de oefeningen.Onderstaande vragen gaan over uw ervaringen met bewust ontspannen en ontspannen ademen. Wilt u elke vraag beantwoorden?
C40: nooit | D40: soms | E40: vaak
A41: Ik merk dat mijn lichaam ontspant, | H41: 1 | K41: VTO
A42: wanneer ik rustig zit
A43: wanneer ik rustig lig
A44: wanneer ik rustig sta
A45: bij inspanning
A46: bij emoties
A47: Ik merk dat ik vanzelf met de buik adem, | H47: 2
A48: wanneer ik rustig zit
A49: wanneer ik rustig lig
A50: wanneer ik rustig sta
A51: bij inspanning
A52: bij emoties
A53: Ik neem de tijd voor bewust ontspannen, | H53: 3
A54: enkele malen per dag
A55: eenmaal per dag
A56: een enkele maal per week
A57: zelden of nooit
A58: Een voordeel van bewust ontspannen ademen is voor mij, | H58: 4
A59: het verbetert lichamelijke klachten
A60: het vergroot mijn helderheid van geest
A61: het verbetert mijn stemming
A62: het geeft me innerlijke rust
A63: het bevordert mijn lichamelijk vermogen
A64: het vermindert mijn vermoeidheid
A65: Een nadeel van bewust ontspannen ademen is voor mij | H65: 5
A66: het vergert sommige klachten
A67: het maakt me onrustig
A68: het verstoort mijn stemming
A69: het hindert me in mijn bezigheden
A70: het maakt me moe
A71: het verwart me
A72: Hoe en wanneer past u de oefeningen voor ademhaling en ontspanning toe? | C72: Vrije tekst ruimte: Hier kun je zelf iets typen.

Sheet Uitvoer
B3: Start - NVL | K3: Eind - NVL | T3: scores:
T4: < 13 | U4: normaal
C5: totaal | D5: nooit | E5: zelden | F5: soms | G5: vaak | H5: zeer vaak | L5: totaal | M5: nooit | N5: zelden | O5: soms | P5: vaak | Q5: zeer vaak | T5: 14 - 20 | U5: hoog-normaal
B6: totaalscore | C6: =(E8*1)+(F8*2)+(G8*3)+(H8*4) -> 0 | D6: =IF(SUM('START-NVL-ATL'!C12:G27)=0,"Start bij vraag 1",IF(SUM('START-NVL-ATL'!C12:G27)>16,"u hebt te veel antwoorden gegeven",IF(C6<13,"normaal",IF(C6<20,"hoognormaal",IF(C6<30,"verhoogd","sterk verhoogd"))))) -> Start bij vraag 1 | K6: totaalscore | L6: =(N8*1)+(O8*2)+(P8*3)+(Q8*4) -> 0 | M6: =IF(SUM('EIND-NVL-ATL-VTO'!C4:G19)=0,"Start bij vraag 1",IF(SUM('EIND-NVL-ATL-VTO'!C4:G19)>16,"u hebt te veel antwoorden gegeven",IF(L6<13,"normaal",IF(L6<20,"hoognormaal",IF(L6<30,"verhoogd","sterk verhoogd"))))) -> Start bij vraag 1 | T6: 21 - 30 | U6: verhoogd
T7: > 30 | U7: sterk verhoogd
B8: per kolom opgeteld (=16): | C8: =SUM(D8:H8) -> 0 | D8: =SUM('START-NVL-ATL'!C12:C27) -> 0 | E8: =SUM('START-NVL-ATL'!D12:D27) -> 0 | F8: =SUM('START-NVL-ATL'!E12:E27) -> 0 | G8: =SUM('START-NVL-ATL'!F12:F27) -> 0 | H8: =SUM('START-NVL-ATL'!G12:G27) -> 0 | K8: per kolom opgeteld (=16): | L8: =SUM(M8:Q8) -> 0 | M8: =SUM('EIND-NVL-ATL-VTO'!C4:C19) -> 0 | N8: =SUM('EIND-NVL-ATL-VTO'!D4:D19) -> 0 | O8: =SUM('EIND-NVL-ATL-VTO'!E4:E19) -> 0 | P8: =SUM('EIND-NVL-ATL-VTO'!F4:F19) -> 0 | Q8: =SUM('EIND-NVL-ATL-VTO'!G4:G19) -> 0
B9: subscore centraal (max 12) | C9: =(E9*1)+(F9*2)+(G9*3)+(H9*4) -> 0 | D9: 0 | E9: ='START-NVL-ATL'!D14+'START-NVL-ATL'!D15+'START-NVL-ATL'!D16 -> 0 | F9: ='START-NVL-ATL'!E14+'START-NVL-ATL'!E15+'START-NVL-ATL'!E16 -> 0 | G9: ='START-NVL-ATL'!F14+'START-NVL-ATL'!F15+'START-NVL-ATL'!F16 -> 0 | H9: ='START-NVL-ATL'!G14+'START-NVL-ATL'!G15+'START-NVL-ATL'!G16 -> 0 | K9: subscore centraal (max 12) | L9: =(N9*1)+(O9*2)+(P9*3)+(Q9*4) -> 0 | M9: 0 | N9: ='EIND-NVL-ATL-VTO'!D6+'EIND-NVL-ATL-VTO'!D7+'EIND-NVL-ATL-VTO'!D8 -> 0 | O9: ='EIND-NVL-ATL-VTO'!E6+'EIND-NVL-ATL-VTO'!E7+'EIND-NVL-ATL-VTO'!E8 -> 0 | P9: ='EIND-NVL-ATL-VTO'!F6+'EIND-NVL-ATL-VTO'!F7+'EIND-NVL-ATL-VTO'!F8 -> 0 | Q9: ='EIND-NVL-ATL-VTO'!G6+'EIND-NVL-ATL-VTO'!G7+'EIND-NVL-ATL-VTO'!G8 -> 0
B10: Subscore dyspnoe (max 16) | C10: =(E10*1)+(F10*2)+(G10*3)+(H10*4) -> 0 | D10: 0 | E10: =SUM('START-NVL-ATL'!D17:D20) -> 0 | F10: =SUM('START-NVL-ATL'!E17:E20) -> 0 | G10: =SUM('START-NVL-ATL'!F17:F20) -> 0 | H10: =SUM('START-NVL-ATL'!G17:G20) -> 0 | K10: Subscore dyspnoe (max 16) | L10: =(N10*1)+(O10*2)+(P10*3)+(Q10*4) -> 0 | M10: 0 | N10: =SUM('EIND-NVL-ATL-VTO'!D9:D12) -> 0 | O10: =SUM('EIND-NVL-ATL-VTO'!E9:E12) -> 0 | P10: =SUM('EIND-NVL-ATL-VTO'!F9:F12) -> 0 | Q10: =SUM('EIND-NVL-ATL-VTO'!G9:G12) -> 0
B11: subscore perifeer (max 16) | C11: =(E11*1)+(F11*2)+(G11*3)+(H11*4) -> 0 | D11: 0 | E11: ='START-NVL-ATL'!D21+'START-NVL-ATL'!D23+'START-NVL-ATL'!D24+'START-NVL-ATL'!D25 -> 0 | F11: ='START-NVL-ATL'!E21+'START-NVL-ATL'!E23+'START-NVL-ATL'!E24+'START-NVL-ATL'!E25 -> 0 | G11: ='START-NVL-ATL'!F21+'START-NVL-ATL'!F23+'START-NVL-ATL'!F24+'START-NVL-ATL'!F25 -> 0 | H11: ='START-NVL-ATL'!G21+'START-NVL-ATL'!G23+'START-NVL-ATL'!G24+'START-NVL-ATL'!G25 -> 0 | K11: subscore perifeer (max 16) | L11: =(N11*1)+(O11*2)+(P11*3)+(Q11*4) -> 0 | M11: 0 | N11: ='EIND-NVL-ATL-VTO'!D13+'EIND-NVL-ATL-VTO'!D15+'EIND-NVL-ATL-VTO'!D16+'EIND-NVL-ATL-VTO'!D17 -> 0 | O11: ='EIND-NVL-ATL-VTO'!E13+'EIND-NVL-ATL-VTO'!E15+'EIND-NVL-ATL-VTO'!E16+'EIND-NVL-ATL-VTO'!E17 -> 0 | P11: ='EIND-NVL-ATL-VTO'!F13+'EIND-NVL-ATL-VTO'!F15+'EIND-NVL-ATL-VTO'!F16+'EIND-NVL-ATL-VTO'!F17 -> 0 | Q11: ='EIND-NVL-ATL-VTO'!G13+'EIND-NVL-ATL-VTO'!G15+'EIND-NVL-ATL-VTO'!G16+'EIND-NVL-ATL-VTO'!G17 -> 0
B12: subscore spanning (max 16) | C12: =(E12*1)+(F12*2)+(G12*3)+(H12*4) -> 0 | D12: 0 | E12: ='START-NVL-ATL'!D12+'START-NVL-ATL'!D13+'START-NVL-ATL'!D26+'START-NVL-ATL'!D27 -> 0 | F12: ='START-NVL-ATL'!E12+'START-NVL-ATL'!E13+'START-NVL-ATL'!E26+'START-NVL-ATL'!E27 -> 0 | G12: ='START-NVL-ATL'!F12+'START-NVL-ATL'!F13+'START-NVL-ATL'!F26+'START-NVL-ATL'!F27 -> 0 | H12: ='START-NVL-ATL'!G12+'START-NVL-ATL'!G13+'START-NVL-ATL'!G26+'START-NVL-ATL'!G27 -> 0 | K12: subscore spanning (max 16) | L12: =(N12*1)+(O12*2)+(P12*3)+(Q12*4) -> 0 | M12: 0 | N12: ='EIND-NVL-ATL-VTO'!D4+'EIND-NVL-ATL-VTO'!D5+'EIND-NVL-ATL-VTO'!D18+'EIND-NVL-ATL-VTO'!D19 -> 0 | O12: ='EIND-NVL-ATL-VTO'!E4+'EIND-NVL-ATL-VTO'!E5+'EIND-NVL-ATL-VTO'!E18+'EIND-NVL-ATL-VTO'!E19 -> 0 | P12: ='EIND-NVL-ATL-VTO'!F4+'EIND-NVL-ATL-VTO'!F5+'EIND-NVL-ATL-VTO'!F18+'EIND-NVL-ATL-VTO'!F19 -> 0 | Q12: ='EIND-NVL-ATL-VTO'!G4+'EIND-NVL-ATL-VTO'!G5+'EIND-NVL-ATL-VTO'!G18+'EIND-NVL-ATL-VTO'!G19 -> 0
B15: Start - ATL | K15: Eind - ATL | T15: Scores:
T16: < 20 | U16: normaal
C17: totaal | D17: nooit | E17: zelden | F17: soms | G17: vaak | H17: zeer vaak | L17: totaal | M17: nooit | N17: zelden | O17: soms | P17: vaak | Q17: zeer vaak | T17: 21 - 32 | U17: licht verhoogd
B18: totaalscore | C18: =(E20)+(F20*2)+(G20*3)+(H20*4) -> 0 | D18: =IF(SUM('START-NVL-ATL'!C28:G43)=0,"Start bij vraag 1",IF(SUM('START-NVL-ATL'!C28:G43)>16,"u hebt te veel antwoorden gegeven",IF(C18<20,"normaal",IF(C18<32,"licht verhoogd",IF(C18<55,"verhoogd","sterk verhoogd"))))) -> Start bij vraag 1 | K18: totaalscore | L18: =(N20)+(O20*2)+(P20*3)+(Q20*4) -> 0 | M18: =IF(SUM('EIND-NVL-ATL-VTO'!C20:G35)=0,"Start bij vraag 1",IF(SUM('EIND-NVL-ATL-VTO'!C20:G35)>16,"u hebt te veel antwoorden gegeven",IF(L18<20,"normaal",IF(L18<32,"licht verhoogd",IF(L18<55,"verhoogd","sterk verhoogd"))))) -> Start bij vraag 1 | T18: 33 - 55 | U18: verhoogd
T19: > 56 | U19: sterk verhoogd
B20: per kolom opgeteld (totaal moet 16 zijn): | C20: =(D20)+(E20)+(F20)+(G20)+(H20) -> 0 | D20: =SUM('START-NVL-ATL'!C28:C43) -> 0 | E20: =SUM('START-NVL-ATL'!D28:D43) -> 0 | F20: =SUM('START-NVL-ATL'!E28:E43) -> 0 | G20: =SUM('START-NVL-ATL'!F28:F43) -> 0 | H20: =SUM('START-NVL-ATL'!G28:G43) -> 0 | K20: per kolom opgeteld (totaal moet 16 zijn): | L20: =(M20)+(N20)+(O20)+(P20)+(Q20) -> 0 | M20: =SUM('EIND-NVL-ATL-VTO'!C20:C35) -> 0 | N20: =SUM('EIND-NVL-ATL-VTO'!D20:D35) -> 0 | O20: =SUM('EIND-NVL-ATL-VTO'!E20:E35) -> 0 | P20: =SUM('EIND-NVL-ATL-VTO'!F20:F35) -> 0 | Q20: =SUM('EIND-NVL-ATL-VTO'!G20:G35) -> 0
B21: Subscore Bewegen | C21: =(E21)+(F21*2)+(G21*3)+(H21*4) -> 0 | D21: 0 | E21: ='START-NVL-ATL'!D32+'START-NVL-ATL'!D33+'START-NVL-ATL'!D42+'START-NVL-ATL'!D43 -> 0 | F21: ='START-NVL-ATL'!E32+'START-NVL-ATL'!E33+'START-NVL-ATL'!E42+'START-NVL-ATL'!E43 -> 0 | G21: ='START-NVL-ATL'!F32+'START-NVL-ATL'!F33+'START-NVL-ATL'!F42+'START-NVL-ATL'!F43 -> 0 | H21: ='START-NVL-ATL'!G32+'START-NVL-ATL'!G33+'START-NVL-ATL'!G42+'START-NVL-ATL'!G43 -> 0 | K21: Subscore Bewegen | L21: =(N21)+(O21*2)+(P21*3)+(Q21*4) -> 0 | M21: 0 | N21: ='EIND-NVL-ATL-VTO'!D24+'EIND-NVL-ATL-VTO'!D25+'EIND-NVL-ATL-VTO'!D34+'EIND-NVL-ATL-VTO'!D35 -> 0 | O21: ='EIND-NVL-ATL-VTO'!E24+'EIND-NVL-ATL-VTO'!E25+'EIND-NVL-ATL-VTO'!E34+'EIND-NVL-ATL-VTO'!E35 -> 0 | P21: ='EIND-NVL-ATL-VTO'!F24+'EIND-NVL-ATL-VTO'!F25+'EIND-NVL-ATL-VTO'!F34+'EIND-NVL-ATL-VTO'!F35 -> 0 | Q21: ='EIND-NVL-ATL-VTO'!G24+'EIND-NVL-ATL-VTO'!G25+'EIND-NVL-ATL-VTO'!G34+'EIND-NVL-ATL-VTO'!G35 -> 0
B22: Subscore Moe | C22: =(E22)+(F22*2)+(G22*3)+(H22*4) -> 0 | D22: 0 | E22: ='START-NVL-ATL'!D28+'START-NVL-ATL'!D29+'START-NVL-ATL'!D30+'START-NVL-ATL'!D38+'START-NVL-ATL'!D39 -> 0 | F22: ='START-NVL-ATL'!E28+'START-NVL-ATL'!E29+'START-NVL-ATL'!E30+'START-NVL-ATL'!E38+'START-NVL-ATL'!E39 -> 0 | G22: ='START-NVL-ATL'!F28+'START-NVL-ATL'!F29+'START-NVL-ATL'!F30+'START-NVL-ATL'!F38+'START-NVL-ATL'!F39 -> 0 | H22: ='START-NVL-ATL'!G28+'START-NVL-ATL'!G29+'START-NVL-ATL'!G30+'START-NVL-ATL'!G38+'START-NVL-ATL'!G39 -> 0 | K22: Subscore Moe | L22: =(N22)+(O22*2)+(P22*3)+(Q22*4) -> 0 | M22: 0 | N22: ='EIND-NVL-ATL-VTO'!D20+'EIND-NVL-ATL-VTO'!D21+'EIND-NVL-ATL-VTO'!D22+'EIND-NVL-ATL-VTO'!D30+'EIND-NVL-ATL-VTO'!D31 -> 0 | O22: ='EIND-NVL-ATL-VTO'!E20+'EIND-NVL-ATL-VTO'!E21+'EIND-NVL-ATL-VTO'!E22+'EIND-NVL-ATL-VTO'!E30+'EIND-NVL-ATL-VTO'!E31 -> 0 | P22: ='EIND-NVL-ATL-VTO'!F20+'EIND-NVL-ATL-VTO'!F21+'EIND-NVL-ATL-VTO'!F22+'EIND-NVL-ATL-VTO'!F30+'EIND-NVL-ATL-VTO'!F31 -> 0 | Q22: ='EIND-NVL-ATL-VTO'!G20+'EIND-NVL-ATL-VTO'!G21+'EIND-NVL-ATL-VTO'!G22+'EIND-NVL-ATL-VTO'!G30+'EIND-NVL-ATL-VTO'!G31 -> 0
B23: Subscore Aandacht | C23: =(E23)+(F23*2)+(G23*3)+(H23*4) -> 0 | D23: 0 | E23: ='START-NVL-ATL'!D34+'START-NVL-ATL'!D35+'START-NVL-ATL'!D37+'START-NVL-ATL'!D41 -> 0 | F23: ='START-NVL-ATL'!E34+'START-NVL-ATL'!E35+'START-NVL-ATL'!E37+'START-NVL-ATL'!E41 -> 0 | G23: ='START-NVL-ATL'!F34+'START-NVL-ATL'!F35+'START-NVL-ATL'!F37+'START-NVL-ATL'!F41 -> 0 | H23: ='START-NVL-ATL'!G34+'START-NVL-ATL'!G35+'START-NVL-ATL'!G37+'START-NVL-ATL'!G41 -> 0 | K23: Subscore Aandacht | L23: =(N23)+(O23*2)+(P23*3)+(Q23*4) -> 0 | M23: 0 | N23: ='EIND-NVL-ATL-VTO'!D26+'EIND-NVL-ATL-VTO'!D27+'EIND-NVL-ATL-VTO'!D29+'EIND-NVL-ATL-VTO'!D33 -> 0 | O23: ='EIND-NVL-ATL-VTO'!E26+'EIND-NVL-ATL-VTO'!E27+'EIND-NVL-ATL-VTO'!E29+'EIND-NVL-ATL-VTO'!E33 -> 0 | P23: ='EIND-NVL-ATL-VTO'!F26+'EIND-NVL-ATL-VTO'!F27+'EIND-NVL-ATL-VTO'!F29+'EIND-NVL-ATL-VTO'!F33 -> 0 | Q23: ='EIND-NVL-ATL-VTO'!G26+'EIND-NVL-ATL-VTO'!G27+'EIND-NVL-ATL-VTO'!G29+'EIND-NVL-ATL-VTO'!G33 -> 0
D24: 0 | M24: 0
K27: VTO
L29: totaal | M29: nooit | N29: soms | O29: vaak
K31: per kolom opgeteld (max 21): | L31: =SUM(M31:O31) -> 0 | M31: =SUM('EIND-NVL-ATL-VTO'!C42:C71) -> 0 | N31: =SUM('EIND-NVL-ATL-VTO'!D42:D71) -> 0 | O31: =SUM('EIND-NVL-ATL-VTO'!E42:E71) -> 0
K32: (hoger is beter) ~ 8 Rust: | L32: =(N32*1)+(O32*2) -> 0 | M32: =SUM('EIND-NVL-ATL-VTO'!C42,'EIND-NVL-ATL-VTO'!C43,'EIND-NVL-ATL-VTO'!C44,'EIND-NVL-ATL-VTO'!C48,'EIND-NVL-ATL-VTO'!C49,'EIND-NVL-ATL-VTO'!C50,'EIND-NVL-ATL-VTO'!C54,'EIND-NVL-ATL-VTO'!C55,'EIND-NVL-ATL-VTO'!C56,'EIND-NVL-ATL-VTO'!C57) -> 0 | N32: =SUM('EIND-NVL-ATL-VTO'!D42,'EIND-NVL-ATL-VTO'!D43,'EIND-NVL-ATL-VTO'!D44,'EIND-NVL-ATL-VTO'!D48,'EIND-NVL-ATL-VTO'!D49,'EIND-NVL-ATL-VTO'!D50,'EIND-NVL-ATL-VTO'!D54,'EIND-NVL-ATL-VTO'!D55,'EIND-NVL-ATL-VTO'!D56,'EIND-NVL-ATL-VTO'!D57) -> 0 | O32: =SUM('EIND-NVL-ATL-VTO'!E42,'EIND-NVL-ATL-VTO'!E43,'EIND-NVL-ATL-VTO'!E44,'EIND-NVL-ATL-VTO'!E48,'EIND-NVL-ATL-VTO'!E49,'EIND-NVL-ATL-VTO'!E50,'EIND-NVL-ATL-VTO'!E54,'EIND-NVL-ATL-VTO'!E55,'EIND-NVL-ATL-VTO'!E56,'EIND-NVL-ATL-VTO'!E57) -> 0
K33: (hoger is beter) ~ 2-3 Actie: | L33: =(N33*1)+(O33*2) -> 0 | M33: =SUM('EIND-NVL-ATL-VTO'!C45,'EIND-NVL-ATL-VTO'!C46,'EIND-NVL-ATL-VTO'!C51,'EIND-NVL-ATL-VTO'!C52,'EIND-NVL-ATL-VTO'!C54,'EIND-NVL-ATL-VTO'!C55,'EIND-NVL-ATL-VTO'!C56,'EIND-NVL-ATL-VTO'!C57) -> 0 | N33: =SUM('EIND-NVL-ATL-VTO'!D45,'EIND-NVL-ATL-VTO'!D46,'EIND-NVL-ATL-VTO'!D51,'EIND-NVL-ATL-VTO'!D52,'EIND-NVL-ATL-VTO'!D54,'EIND-NVL-ATL-VTO'!D55,'EIND-NVL-ATL-VTO'!D56,'EIND-NVL-ATL-VTO'!D57) -> 0 | O33: =SUM('EIND-NVL-ATL-VTO'!E45,'EIND-NVL-ATL-VTO'!E46,'EIND-NVL-ATL-VTO'!E51,'EIND-NVL-ATL-VTO'!E52,'EIND-NVL-ATL-VTO'!E54,'EIND-NVL-ATL-VTO'!E55,'EIND-NVL-ATL-VTO'!E56,'EIND-NVL-ATL-VTO'!E57) -> 0
K34: (hoger is beter) ~ 6-8 Voordeel: | L34: =(N34*1)+(O34*2) -> 0 | M34: =SUM('EIND-NVL-ATL-VTO'!C59:C64) -> 0 | N34: =SUM('EIND-NVL-ATL-VTO'!D59:D64) -> 0 | O34: =SUM('EIND-NVL-ATL-VTO'!E59:E64) -> 0
K35: (hoger is beter) ~ 4-6 Nadeel: | L35: =(N35*1)+(O35*2) -> 0 | M35: =SUM('EIND-NVL-ATL-VTO'!C66:C71) -> 0 | N35: =SUM('EIND-NVL-ATL-VTO'!D66:D71) -> 0 | O35: =SUM('EIND-NVL-ATL-VTO'!E66:E71) -> 0
